BEGIN:VCALENDAR
VERSION:2.0
PRODID:-//radarcultural.org - ECPv6.15.14//NONSGML v1.0//EN
CALSCALE:GREGORIAN
METHOD:PUBLISH
X-ORIGINAL-URL:https://radarcultural.org
X-WR-CALDESC:Eventos para radarcultural.org
REFRESH-INTERVAL;VALUE=DURATION:PT1H
X-Robots-Tag:noindex
X-PUBLISHED-TTL:PT1H
BEGIN:VTIMEZONE
TZID:America/Argentina/Buenos_Aires
BEGIN:STANDARD
TZOFFSETFROM:-0300
TZOFFSETTO:-0300
TZNAME:-03
DTSTART:20270101T000000
END:STANDARD
END:VTIMEZONE
BEGIN:VEVENT
DTSTART;TZID=America/Argentina/Buenos_Aires:20281204T193000
DTEND;TZID=America/Argentina/Buenos_Aires:20281205T000000
DTSTAMP:20260420T171211
CREATED:20260328T235455Z
LAST-MODIFIED:20260328T235455Z
UID:10002965-1859571000-1859587200@radarcultural.org
SUMMARY:Febril y amante - Milonga por Clely Rugnone
DESCRIPTION:Espacio cultural tanguero / milonga – Músicos y cantantes en vivo \nTodos los lunes de 20.30 a 00 HS \nA las 19.30 HS clase de tanto con Eduardo Arquimbau \nEn Andalgalá 1982 – Bar Glorias Argentinas – Mataderos (CABA) \n  \nVení a cenar y bailar con tus amigos y/o tu familia. Cena a la carta\, precios accesibles. \n  \nOrganiza su dueña Clely Rugnone. \n  \n¡¡Te esperamos!! \nNo se suspende por feriados ni por lluvias.
URL:https://radarcultural.org/evento/febril-y-amante-milonga-por-clely-rugnone/2028-12-04/
CATEGORIES:Danza - Tango y Milonga (Clase/Taller),Peña con Música y Baile (Espectáculo/Evento)
ATTACH;FMTTYPE=image/png:https://radarcultural.org/wp-content/uploads/2026/03/flyer-publicitario.png
ORGANIZER;CN="Febril y Amante - Milonga":MAILTO:febrero.noelia@gmail.com
END:VEVENT
BEGIN:VEVENT
DTSTART;TZID=America/Argentina/Buenos_Aires:20281211T193000
DTEND;TZID=America/Argentina/Buenos_Aires:20281212T000000
DTSTAMP:20260420T171211
CREATED:20260328T235455Z
LAST-MODIFIED:20260328T235455Z
UID:10002966-1860175800-1860192000@radarcultural.org
SUMMARY:Febril y amante - Milonga por Clely Rugnone
DESCRIPTION:Espacio cultural tanguero / milonga – Músicos y cantantes en vivo \nTodos los lunes de 20.30 a 00 HS \nA las 19.30 HS clase de tanto con Eduardo Arquimbau \nEn Andalgalá 1982 – Bar Glorias Argentinas – Mataderos (CABA) \n  \nVení a cenar y bailar con tus amigos y/o tu familia. Cena a la carta\, precios accesibles. \n  \nOrganiza su dueña Clely Rugnone. \n  \n¡¡Te esperamos!! \nNo se suspende por feriados ni por lluvias.
URL:https://radarcultural.org/evento/febril-y-amante-milonga-por-clely-rugnone/2028-12-11/
CATEGORIES:Danza - Tango y Milonga (Clase/Taller),Peña con Música y Baile (Espectáculo/Evento)
ATTACH;FMTTYPE=image/png:https://radarcultural.org/wp-content/uploads/2026/03/flyer-publicitario.png
ORGANIZER;CN="Febril y Amante - Milonga":MAILTO:febrero.noelia@gmail.com
END:VEVENT
BEGIN:VEVENT
DTSTART;TZID=America/Argentina/Buenos_Aires:20281218T193000
DTEND;TZID=America/Argentina/Buenos_Aires:20281219T000000
DTSTAMP:20260420T171211
CREATED:20260328T235455Z
LAST-MODIFIED:20260328T235455Z
UID:10002967-1860780600-1860796800@radarcultural.org
SUMMARY:Febril y amante - Milonga por Clely Rugnone
DESCRIPTION:Espacio cultural tanguero / milonga – Músicos y cantantes en vivo \nTodos los lunes de 20.30 a 00 HS \nA las 19.30 HS clase de tanto con Eduardo Arquimbau \nEn Andalgalá 1982 – Bar Glorias Argentinas – Mataderos (CABA) \n  \nVení a cenar y bailar con tus amigos y/o tu familia. Cena a la carta\, precios accesibles. \n  \nOrganiza su dueña Clely Rugnone. \n  \n¡¡Te esperamos!! \nNo se suspende por feriados ni por lluvias.
URL:https://radarcultural.org/evento/febril-y-amante-milonga-por-clely-rugnone/2028-12-18/
CATEGORIES:Danza - Tango y Milonga (Clase/Taller),Peña con Música y Baile (Espectáculo/Evento)
ATTACH;FMTTYPE=image/png:https://radarcultural.org/wp-content/uploads/2026/03/flyer-publicitario.png
ORGANIZER;CN="Febril y Amante - Milonga":MAILTO:febrero.noelia@gmail.com
END:VEVENT
BEGIN:VEVENT
DTSTART;TZID=America/Argentina/Buenos_Aires:20281225T193000
DTEND;TZID=America/Argentina/Buenos_Aires:20281226T000000
DTSTAMP:20260420T171211
CREATED:20260328T235455Z
LAST-MODIFIED:20260328T235455Z
UID:10002968-1861385400-1861401600@radarcultural.org
SUMMARY:Febril y amante - Milonga por Clely Rugnone
DESCRIPTION:Espacio cultural tanguero / milonga – Músicos y cantantes en vivo \nTodos los lunes de 20.30 a 00 HS \nA las 19.30 HS clase de tanto con Eduardo Arquimbau \nEn Andalgalá 1982 – Bar Glorias Argentinas – Mataderos (CABA) \n  \nVení a cenar y bailar con tus amigos y/o tu familia. Cena a la carta\, precios accesibles. \n  \nOrganiza su dueña Clely Rugnone. \n  \n¡¡Te esperamos!! \nNo se suspende por feriados ni por lluvias.
URL:https://radarcultural.org/evento/febril-y-amante-milonga-por-clely-rugnone/2028-12-25/
CATEGORIES:Danza - Tango y Milonga (Clase/Taller),Peña con Música y Baile (Espectáculo/Evento)
ATTACH;FMTTYPE=image/png:https://radarcultural.org/wp-content/uploads/2026/03/flyer-publicitario.png
ORGANIZER;CN="Febril y Amante - Milonga":MAILTO:febrero.noelia@gmail.com
END:VEVENT
END:VCALENDAR